BEGIN:VCALENDAR
VERSION:2.0
PRODID:-//Nalanda University - ECPv6.15.18//NONSGML v1.0//EN
CALSCALE:GREGORIAN
METHOD:PUBLISH
X-ORIGINAL-URL:https://nalandauniv.edu.in
X-WR-CALDESC:Events for Nalanda University
REFRESH-INTERVAL;VALUE=DURATION:PT1H
X-Robots-Tag:noindex
X-PUBLISHED-TTL:PT1H
BEGIN:VTIMEZONE
TZID:Asia/Kolkata
BEGIN:STANDARD
TZOFFSETFROM:+0530
TZOFFSETTO:+0530
TZNAME:IST
DTSTART:20210101T000000
END:STANDARD
END:VTIMEZONE
BEGIN:VEVENT
DTSTART;TZID=Asia/Kolkata:20220403T080000
DTEND;TZID=Asia/Kolkata:20220403T170000
DTSTAMP:20260424T222018
CREATED:20231219T122058Z
LAST-MODIFIED:20231219T122930Z
UID:10608-1648972800-1649005200@nalandauniv.edu.in
SUMMARY:Field Trip to Rajgir Archaeological Sites  School of Historical Studies (SHS)
DESCRIPTION:A field trip to the archaeological sites of Rajgir was conducted on 03.04.2022 by the faculty members of the School of Historical Studies. The students were educated about the following archaeological sites: Ajathasatru fort\, Cyclopean wall/fortification wall of old Rajagriha city\, inner rampart\, chariot wheel marks site\, ancient shell script site\, Chorma Cave\, Maniyar Math\, and Swarn Bhandar Cave by this visit. They also explored\, observed\, and experienced various geological features of Rajgir Hills. \nPractical field methods were demonstrated to understand surface archaeological finds\, historical pottery\, ancient script\, art and architecture\, military architecture\, fort\, fortifications and bastions. The minute details of the southern Cyclopean wall and bastions of the ancient Rajagriha city; its construction pattern\, functions and issues related to its conservation and preservations were studied. The ancient chariot wheel marks on the rocky surface of Udayagiri foothills reveal the ancient trade route. The shell script inscription found at the site tells about the nature of the scripts. The Chorma cave exemplifies the types of the cave used for prehistoric habitation and succeedingly reoccupied during the historical times. The preparation of the habitation floor inside the cave indicates its being occupied by some important Buddhist/Jain monk and makes it unique among all other caves in the area. Students undertook the adventure of climbing and exploring inside the cave and learned about the formation processes related to archaeological deposits. \nEthnographic field trip to Potters workshop \nStudents were taken to potters’ workshops located at Giriyak road in Rajgir to experience the pottery making practices. This visit developed their ethnographic observation skills and knowledge of ceramic technology. The students keenly observed the process related to clay preparation methods and raw materials used for manufacturing the pottery. Students observed various ceramic types\, technology\, designs\, shape\, size and paintings. The furnace area was visited to learn about furnace size\, types of fuel\, temperature\, and characteristic features of a potter’s kiln area. Overall field trip was exciting for the students to learn about the prehistoric and historic settlement patterns and ethnoarchaeology of the living communities of Rajgir and its surroundings. \nFig.1 Students visiting and learning about the Ajathasatru fort and fortification system
URL:https://nalandauniv.edu.in/event/field-trip-to-rajgir-archaeological-sites-school-of-historical-studies-shs/
CATEGORIES:School of Historical Studies
END:VEVENT
END:VCALENDAR