BEGIN:VCALENDAR
VERSION:2.0
PRODID:-//Nalanda University - ECPv6.15.18//NONSGML v1.0//EN
CALSCALE:GREGORIAN
METHOD:PUBLISH
X-ORIGINAL-URL:https://nalandauniv.edu.in
X-WR-CALDESC:Events for Nalanda University
REFRESH-INTERVAL;VALUE=DURATION:PT1H
X-Robots-Tag:noindex
X-PUBLISHED-TTL:PT1H
BEGIN:VTIMEZONE
TZID:Asia/Kolkata
BEGIN:STANDARD
TZOFFSETFROM:+0530
TZOFFSETTO:+0530
TZNAME:IST
DTSTART:20220101T000000
END:STANDARD
END:VTIMEZONE
BEGIN:VEVENT
DTSTART;TZID=Asia/Kolkata:20230213T080000
DTEND;TZID=Asia/Kolkata:20230418T170000
DTSTAMP:20260424T044237
CREATED:20230418T083715Z
LAST-MODIFIED:20240124T090525Z
UID:11577-1676275200-1681837200@nalandauniv.edu.in
SUMMARY:SBSPCR extension lectures by Prof. Diwakar Acharya
DESCRIPTION:SBSPCR conducted a series of Extension lectures by Prof. Diwakarnath Acharya\, Spalding Professor of Eastern Religions and Ethics at the University of Oxford as a part of the courses named ‘Sources of Indian Knowledge Tradition: Sūtra\, Vārtika & Bhāṣya’ offered to the III semester students and ‘Vālmīki-Rāmāyaṇa: Textual and Thematic Study’ offered to the II semester students of M.A. in Hindu Studies (Sanātana). The lectures were conducted virtually on 13th and 14th February 2023\, 17th March 2023\, 12th and 18th April 2023.
URL:https://nalandauniv.edu.in/event/sbspcr-extension-lectures-by-prof-diwakar-acharya/
CATEGORIES:School of Buddhist Studies, Philosophy and Comparative Religions
ATTACH;FMTTYPE=image/jpeg:https://nalandauniv.edu.in/wp-content/uploads/2023/04/SBSPCR-6-scaled.jpg
END:VEVENT
BEGIN:VEVENT
DTSTART;TZID=Asia/Kolkata:20230311T080000
DTEND;TZID=Asia/Kolkata:20230319T170000
DTSTAMP:20260424T044237
CREATED:20230319T083125Z
LAST-MODIFIED:20240124T083407Z
UID:11574-1678521600-1679245200@nalandauniv.edu.in
SUMMARY:SBSPCR Extension Lector of Professor Antonino Raffone
DESCRIPTION:The School of Buddhist Studies\, Philosophy and Comparative Religions conducted a series of Lectures on Buddhist Cognitive Psychology for the 2nd Semester of M.A students. In Buddhist Studies\, Philosophy and Comparative Religions. Professor Anotnino Raffone took the online classes on ‘Buddhist Cognitive Psychology according to Five Aggregates (Pancakhandha) in Buddhism’ for 7 hours from March 11 to March 19\, 2023.
URL:https://nalandauniv.edu.in/event/sbspcr-extension-lector-of-professor-antonino-raffone/
CATEGORIES:School of Buddhist Studies, Philosophy and Comparative Religions
ATTACH;FMTTYPE=image/jpeg:https://nalandauniv.edu.in/wp-content/uploads/2023/03/SBSPCR-11.jpeg
END:VEVENT
BEGIN:VEVENT
DTSTART;TZID=Asia/Kolkata:20230314T080000
DTEND;TZID=Asia/Kolkata:20230315T170000
DTSTAMP:20260424T044237
CREATED:20240315T091215Z
LAST-MODIFIED:20240124T091449Z
UID:11583-1678780800-1678899600@nalandauniv.edu.in
SUMMARY:SBSPCR Extension lectures of Prof. Pradeep Gokhale
DESCRIPTION:SBSPCR conducted a series of Extension lectures of Prof. Pradeep Gokhale\, Ex-Professor of Philosophy\, Department of Philosophy\, Savitribai Phule Pune University\, India as a part of a Course named ‘The Philosophical Tenets of Buddhism: Mādhyamika Traditions’ offered to the 4th Semester students of M.A. in Buddhist Studies\, Philosophy & Comparative Religions. These lectures were conducted online\, and Professor Gokhale delivered them on March 14th and 15th\, 2023. The lectures were based on the topic of ‘Four-Fold Negation as deliberated by the Buddhist Philosopher Nāgārjuna in his text Mūlamādhyamikakārikā’. 4th-semester students and faculty members of SBSPCR physically attended the lectures. Some research scholars from the university also joined the lecture.
URL:https://nalandauniv.edu.in/event/sbspcr-extension-lectures-of-prof-pradeep-gokhale/
CATEGORIES:School of Buddhist Studies, Philosophy and Comparative Religions
ATTACH;FMTTYPE=image/jpeg:https://nalandauniv.edu.in/wp-content/uploads/2024/01/SBSPCR-16.jpg
END:VEVENT
END:VCALENDAR