BEGIN:VCALENDAR
VERSION:2.0
PRODID:-//Nalanda University - ECPv6.15.18//NONSGML v1.0//EN
CALSCALE:GREGORIAN
METHOD:PUBLISH
X-WR-CALNAME:Nalanda University
X-ORIGINAL-URL:https://nalandauniv.edu.in
X-WR-CALDESC:Events for Nalanda University
REFRESH-INTERVAL;VALUE=DURATION:PT1H
X-Robots-Tag:noindex
X-PUBLISHED-TTL:PT1H
BEGIN:VTIMEZONE
TZID:Asia/Kolkata
BEGIN:STANDARD
TZOFFSETFROM:+0530
TZOFFSETTO:+0530
TZNAME:IST
DTSTART:20220101T000000
END:STANDARD
END:VTIMEZONE
BEGIN:VEVENT
DTSTART;TZID=Asia/Kolkata:20230213T080000
DTEND;TZID=Asia/Kolkata:20230418T170000
DTSTAMP:20260424T031313
CREATED:20230418T083715Z
LAST-MODIFIED:20240124T090525Z
UID:11577-1676275200-1681837200@nalandauniv.edu.in
SUMMARY:SBSPCR extension lectures by Prof. Diwakar Acharya
DESCRIPTION:SBSPCR conducted a series of Extension lectures by Prof. Diwakarnath Acharya\, Spalding Professor of Eastern Religions and Ethics at the University of Oxford as a part of the courses named ‘Sources of Indian Knowledge Tradition: Sūtra\, Vārtika & Bhāṣya’ offered to the III semester students and ‘Vālmīki-Rāmāyaṇa: Textual and Thematic Study’ offered to the II semester students of M.A. in Hindu Studies (Sanātana). The lectures were conducted virtually on 13th and 14th February 2023\, 17th March 2023\, 12th and 18th April 2023.
URL:https://nalandauniv.edu.in/event/sbspcr-extension-lectures-by-prof-diwakar-acharya/
CATEGORIES:School of Buddhist Studies, Philosophy and Comparative Religions
ATTACH;FMTTYPE=image/jpeg:https://nalandauniv.edu.in/wp-content/uploads/2023/04/SBSPCR-6-scaled.jpg
END:VEVENT
BEGIN:VEVENT
DTSTART;TZID=Asia/Kolkata:20230411T080000
DTEND;TZID=Asia/Kolkata:20230419T170000
DTSTAMP:20260424T031313
CREATED:20240124T090813Z
LAST-MODIFIED:20240124T091024Z
UID:11580-1681200000-1681923600@nalandauniv.edu.in
SUMMARY:SBSPCR extension lectures by Prof. Haramohan Mishra
DESCRIPTION:The School of Buddhist Studies\, Philosophy and Comparative Religions conducted a series of Extension Lectures on Kashmir Śaivism and Bodhapañcadaśīkā of Abhinavagupta which forms a module in the course ‘Comparative Readings of Religious Texts (Selections from Vaiṣvism\, Śaivism and Buddhist texts) of the students of 2nd Semester of M.A. in Buddhist Studies\, Philosophy and Comparative Religions. Prof. Haramohan Mishra\, an exponent of the field of Kashmir Shaivism\, delivered lectures on the philosophy of Kashmir Śaivism and the contribution of Abhinavagupta on 11th April 2023 and taught the text Bodhapañcadaśīkā (fifteen verses on wisdom) of Abhinavagupta on 12th and 19th April 2023. He also provided his English translations of the text Bodhapañcadaśikā to the students.
URL:https://nalandauniv.edu.in/event/sbspcr-extension-lectures-by-prof-haramohan-mishra/
CATEGORIES:School of Buddhist Studies, Philosophy and Comparative Religions
ATTACH;FMTTYPE=image/jpeg:https://nalandauniv.edu.in/wp-content/uploads/2024/01/SBSPCR-1-scaled.jpg
END:VEVENT
END:VCALENDAR