BEGIN:VCALENDAR
VERSION:2.0
PRODID:-//Nalanda University - ECPv6.15.18//NONSGML v1.0//EN
CALSCALE:GREGORIAN
METHOD:PUBLISH
X-WR-CALNAME:Nalanda University
X-ORIGINAL-URL:https://nalandauniv.edu.in
X-WR-CALDESC:Events for Nalanda University
REFRESH-INTERVAL;VALUE=DURATION:PT1H
X-Robots-Tag:noindex
X-PUBLISHED-TTL:PT1H
BEGIN:VTIMEZONE
TZID:Asia/Kolkata
BEGIN:STANDARD
TZOFFSETFROM:+0530
TZOFFSETTO:+0530
TZNAME:IST
DTSTART:20240101T000000
END:STANDARD
END:VTIMEZONE
BEGIN:VEVENT
DTSTART;TZID=Asia/Kolkata:20250226T163000
DTEND;TZID=Asia/Kolkata:20250226T190000
DTSTAMP:20260423T122407
CREATED:20250225T122740Z
LAST-MODIFIED:20250225T122817Z
UID:14324-1740587400-1740596400@nalandauniv.edu.in
SUMMARY:SEES Distinguished Lecture by Prof. Mark. D. Usher
DESCRIPTION:
URL:https://nalandauniv.edu.in/event/sees-distinguished-lecture-by-prof-mark-d-usher/
LOCATION:Mini-Auditorium\, Nalanda University
CATEGORIES:School of Ecology and Environment Studies
ATTACH;FMTTYPE=image/jpeg:https://nalandauniv.edu.in/wp-content/uploads/2025/02/SEES-Distinguished-Lecture-on-February-26-2025_page-0001-1.jpg
END:VEVENT
END:VCALENDAR