BEGIN:VCALENDAR
VERSION:2.0
PRODID:-//Nalanda University - ECPv6.15.18//NONSGML v1.0//EN
CALSCALE:GREGORIAN
METHOD:PUBLISH
X-ORIGINAL-URL:https://nalandauniv.edu.in
X-WR-CALDESC:Events for Nalanda University
REFRESH-INTERVAL;VALUE=DURATION:PT1H
X-Robots-Tag:noindex
X-PUBLISHED-TTL:PT1H
BEGIN:VTIMEZONE
TZID:Asia/Kolkata
BEGIN:STANDARD
TZOFFSETFROM:+0530
TZOFFSETTO:+0530
TZNAME:IST
DTSTART:20240101T000000
END:STANDARD
END:VTIMEZONE
BEGIN:VEVENT
DTSTART;TZID=Asia/Kolkata:20250304T160000
DTEND;TZID=Asia/Kolkata:20250304T160000
DTSTAMP:20260423T134318
CREATED:20250304T072751Z
LAST-MODIFIED:20250304T072803Z
UID:14454-1741104000-1741104000@nalandauniv.edu.in
SUMMARY:SHS Special Lecture by Dr. Vasudha Pande
DESCRIPTION:
URL:https://nalandauniv.edu.in/event/shs-special-lecture-by-dr-vasudha-pande-on-march-04-2025/
LOCATION:Mini-Auditorium\, Nalanda University
CATEGORIES:School of Historical Studies
ATTACH;FMTTYPE=image/jpeg:https://nalandauniv.edu.in/wp-content/uploads/2025/03/SHS-Lecture-by-Dr.-Vasudha-Pande-on-March-04-2025_page-0001.jpg
END:VEVENT
END:VCALENDAR