BEGIN:VCALENDAR
VERSION:2.0
PRODID:-//Nalanda University - ECPv6.15.18//NONSGML v1.0//EN
CALSCALE:GREGORIAN
METHOD:PUBLISH
X-ORIGINAL-URL:https://nalandauniv.edu.in
X-WR-CALDESC:Events for Nalanda University
REFRESH-INTERVAL;VALUE=DURATION:PT1H
X-Robots-Tag:noindex
X-PUBLISHED-TTL:PT1H
BEGIN:VTIMEZONE
TZID:Asia/Kolkata
BEGIN:STANDARD
TZOFFSETFROM:+0530
TZOFFSETTO:+0530
TZNAME:IST
DTSTART:20230101T000000
END:STANDARD
END:VTIMEZONE
BEGIN:VEVENT
DTSTART;TZID=Asia/Kolkata:20240131T173000
DTEND;TZID=Asia/Kolkata:20240131T173000
DTSTAMP:20260423T160854
CREATED:20240208T100821Z
LAST-MODIFIED:20241029T121811Z
UID:11944-1706722200-1706722200@nalandauniv.edu.in
SUMMARY:Nalanda University\, in collaboration with SPIC Macay\, organised a folk dance (Purulia Chhau) recital by Shri Tarapad Rajak and his troupe on 31 January 2024
DESCRIPTION:
URL:https://nalandauniv.edu.in/event/nalanda-university-in-collaboration-with-spic-macay-organised-a-folk-dance-purulia-chhau-recital-by-shri-tarapad-rajak-and-his-troupe-on-31-january-2024/
LOCATION:Sushma Swaraj Auditorium\, Nalanda University
CATEGORIES:Cultural program
ATTACH;FMTTYPE=image/jpeg:https://nalandauniv.edu.in/wp-content/uploads/2024/02/WhatsApp-Image-2024-01-30-at-5.55.05-PM.jpeg
END:VEVENT
BEGIN:VEVENT
DTSTART;TZID=Asia/Kolkata:20240206T183000
DTEND;TZID=Asia/Kolkata:20240206T183000
DTSTAMP:20260423T160854
CREATED:20240208T101707Z
LAST-MODIFIED:20241029T121811Z
UID:11949-1707244200-1707244200@nalandauniv.edu.in
SUMMARY:Nalanda University\, in collaboration with SPIC-MACAY\, organised a flute recital by maestro Pt. Rajendra Prasanna\, accompanied by Pt. Lalit Kumar on Tabla on 6 February 2024.
DESCRIPTION:
URL:https://nalandauniv.edu.in/event/nalanda-university-in-collaboration-with-spic-macay-organised-a-flute-recital-by-maestro-pt-rajendra-prasanna-accompanied-by-pt-lalit-kumar-on-tabla-on-6-february-2024/
LOCATION:Sushma Swaraj Auditorium\, Nalanda University
CATEGORIES:Cultural program
ATTACH;FMTTYPE=image/jpeg:https://nalandauniv.edu.in/wp-content/uploads/2024/02/1707387114748-f25ef5ff-aa1c-49fc.jpg
END:VEVENT
BEGIN:VEVENT
DTSTART;TZID=Asia/Kolkata:20240209T140000
DTEND;TZID=Asia/Kolkata:20240209T140000
DTSTAMP:20260423T160854
CREATED:20240209T045619Z
LAST-MODIFIED:20241029T121811Z
UID:11951-1707487200-1707487200@nalandauniv.edu.in
SUMMARY:Symposium on Restoring What is Lost: Heritage\, Architecture and Culture
DESCRIPTION:
URL:https://nalandauniv.edu.in/event/symposium-on-restoring-what-is-lost-heritage-architecture-and-culture/
LOCATION:Mini-Auditorium\, Nalanda University
CATEGORIES:School of Historical Studies
ATTACH;FMTTYPE=image/jpeg:https://nalandauniv.edu.in/wp-content/uploads/2024/02/Banner-for-Display-V2-1.jpg
END:VEVENT
BEGIN:VEVENT
DTSTART;VALUE=DATE:20240219
DTEND;VALUE=DATE:20240222
DTSTAMP:20260423T160854
CREATED:20240212T105659Z
LAST-MODIFIED:20241029T121811Z
UID:11957-1708300800-1708559999@nalandauniv.edu.in
SUMMARY:Lecture by Prof. Alain Desoulieres from February 19-21\, 2024 in the School of Languages and Literature/Humanities\, Nalanda University
DESCRIPTION:Eminent Scholar Prof. Alain Desoulieres (Retd from INALCO\, Paris) lectures from February 19-21\, 2024 in the School of Languages and Literature/Humanities on the following topics: \n\nThe case of Virgil’s Aeneid epics in Latin: Roman Tradition and Translation.\nThe Adaptation of Dido and Aeneas from Homer to Virgil\nVirgil’s Aeneid : Mythology and Iconographic Tradition related Dido and Aenas\nVirgil adapted in Contemporary European Languages: Os Lusiadas by Camões\nVirgil adapted in Contemporary European Languages : O vaticinio do Swârga by Ave Cleto Afonso\n\nVideo Link : \nDay 1 – https://youtu.be/3or1JoES-dM\nDay 2 – https://youtu.be/K-y9bdwlKo4\nDay 3 – https://youtu.be/WLPcWGOLkqc\nDay 4 – https://youtu.be/0OcEoPkvygY
URL:https://nalandauniv.edu.in/event/media-text-regarding-lectures-of-prof-alain-desoulieres/
CATEGORIES:The School of Languages and Literature/Humanities
ATTACH;FMTTYPE=image/png:https://nalandauniv.edu.in/wp-content/uploads/2024/02/upcoming-1.png
END:VEVENT
BEGIN:VEVENT
DTSTART;VALUE=DATE:20240222
DTEND;VALUE=DATE:20240224
DTSTAMP:20260423T160854
CREATED:20240221T055019Z
LAST-MODIFIED:20241029T121811Z
UID:12006-1708560000-1708732799@nalandauniv.edu.in
SUMMARY:Workshop on Just Transition Towards Circular Economy and Sustainability
DESCRIPTION:
URL:https://nalandauniv.edu.in/event/workshop-on-just-transition-towards-circular-economy-and-sustainability/
CATEGORIES:School of Ecology and Environment Studies
ATTACH;FMTTYPE=image/jpeg:https://nalandauniv.edu.in/wp-content/uploads/2024/02/event-22.jpg
END:VEVENT
BEGIN:VEVENT
DTSTART;VALUE=DATE:20240311
DTEND;VALUE=DATE:20240314
DTSTAMP:20260423T160854
CREATED:20240227T072438Z
LAST-MODIFIED:20241029T121811Z
UID:12066-1710115200-1710374399@nalandauniv.edu.in
SUMMARY:A National Workshop on Evaluation and Validation of Translation
DESCRIPTION:
URL:https://nalandauniv.edu.in/event/a-national-workshop-on-evaluation-and-validation-of-translation/
CATEGORIES:Academic Programme
ATTACH;FMTTYPE=image/jpeg:https://nalandauniv.edu.in/wp-content/uploads/2024/03/WhatsApp-Image-2024-03-11-at-12.42.56-PM.jpeg
END:VEVENT
BEGIN:VEVENT
DTSTART;TZID=Asia/Kolkata:20240311T170000
DTEND;TZID=Asia/Kolkata:20240311T220000
DTSTAMP:20260423T160854
CREATED:20240307T110953Z
LAST-MODIFIED:20241029T121811Z
UID:12103-1710176400-1710194400@nalandauniv.edu.in
SUMMARY:Distinguished Lecture on "The Transcontinental Movements of ‘The Immoveable One’: Acala Images in India and Abroad"
DESCRIPTION:
URL:https://nalandauniv.edu.in/event/the-transcontinental-movements-of-the-immoveable-one-acala-images-in-india-and-abroad/
LOCATION:Mini-Auditorium\, Nalanda University
CATEGORIES:School of Historical Studies
ATTACH;FMTTYPE=image/jpeg:https://nalandauniv.edu.in/wp-content/uploads/2024/03/Distinguished-Lecture_Nalanda-Un.jpg
END:VEVENT
BEGIN:VEVENT
DTSTART;VALUE=DATE:20240313
DTEND;VALUE=DATE:20240317
DTSTAMP:20260423T160854
CREATED:20240308T051256Z
LAST-MODIFIED:20241029T121811Z
UID:12121-1710288000-1710633599@nalandauniv.edu.in
SUMMARY:Lecture by eminent scholar Prof. Mouloud Madoun from ESSEC\, Paris
DESCRIPTION:
URL:https://nalandauniv.edu.in/event/lecture-by-eminent-scholar-prof-mouloud-madoun-from-essec-paris/
CATEGORIES:The School of Languages and Literature/Humanities
ATTACH;FMTTYPE=image/jpeg:https://nalandauniv.edu.in/wp-content/uploads/2024/03/Final-Design-conv-1.jpg
END:VEVENT
BEGIN:VEVENT
DTSTART;VALUE=DATE:20240316
DTEND;VALUE=DATE:20240318
DTSTAMP:20260423T160854
CREATED:20240228T075648Z
LAST-MODIFIED:20241029T121811Z
UID:12031-1710547200-1710719999@nalandauniv.edu.in
SUMMARY:6th Edition Bodh Gaya Global Dialogues 2024
DESCRIPTION:
URL:https://nalandauniv.edu.in/event/6th-edition-bodh-gaya-global-dialogues-2024/
LOCATION:Nalanda University\, Rajgir\, Bihar
ATTACH;FMTTYPE=image/jpeg:https://nalandauniv.edu.in/wp-content/uploads/2024/02/bodh-gaya.jpg
END:VEVENT
BEGIN:VEVENT
DTSTART;VALUE=DATE:20240402
DTEND;VALUE=DATE:20240406
DTSTAMP:20260423T160854
CREATED:20240321T055859Z
LAST-MODIFIED:20241029T121811Z
UID:12282-1712016000-1712361599@nalandauniv.edu.in
SUMMARY:Lecture by International Expert Professor Oliver Arifon.
DESCRIPTION:
URL:https://nalandauniv.edu.in/event/international-expert-professor-oliver-arifon/
CATEGORIES:The School of Languages and Literature/Humanities
ATTACH;FMTTYPE=image/jpeg:https://nalandauniv.edu.in/wp-content/uploads/2024/03/Poster-2-5-April-2024_page-0001.jpg
END:VEVENT
BEGIN:VEVENT
DTSTART;TZID=Asia/Kolkata:20240410T170000
DTEND;TZID=Asia/Kolkata:20240410T193000
DTSTAMP:20260423T160854
CREATED:20240410T052247Z
LAST-MODIFIED:20241029T121811Z
UID:12341-1712768400-1712777400@nalandauniv.edu.in
SUMMARY:Nalanda University is organizing a Yoga workshop in collaboration with Kaivalyadhama on April 10\, 2024 (Wednesday) at 5 pm
DESCRIPTION:
URL:https://nalandauniv.edu.in/event/nalanda-university-is-organizing-a-yoga-workshop-in-collaboration-with-kaivalyadhama-on-april-10-2024-wednesday-at-5-pm/
LOCATION:Mini-Auditorium\, Nalanda University
CATEGORIES:Academic Programme
ATTACH;FMTTYPE=image/jpeg:https://nalandauniv.edu.in/wp-content/uploads/2024/04/Invitation-of-the-Yoga-Workshop-1.jpg
END:VEVENT
BEGIN:VEVENT
DTSTART;TZID=Asia/Kolkata:20240416T170000
DTEND;TZID=Asia/Kolkata:20240416T200000
DTSTAMP:20260423T160854
CREATED:20240416T125020Z
LAST-MODIFIED:20241104T051048Z
UID:12384-1713286800-1713297600@nalandauniv.edu.in
SUMMARY:Cycling Volunteering and Gandhian Values: Fostering Indian Cultural Heritage
DESCRIPTION:
URL:https://nalandauniv.edu.in/event/cycling-volunteering-and-gandhian-values-fostering-indian-cultural-heritage/
LOCATION:Mini-Auditorium\, Nalanda University
CATEGORIES:Academic Programme
ATTACH;FMTTYPE=image/jpeg:https://nalandauniv.edu.in/wp-content/uploads/2024/04/Dr-Seth-Leture-16th-April.jpg
END:VEVENT
BEGIN:VEVENT
DTSTART;TZID=Asia/Kolkata:20240417T160000
DTEND;TZID=Asia/Kolkata:20240417T170000
DTSTAMP:20260423T160854
CREATED:20240416T122937Z
LAST-MODIFIED:20241104T051038Z
UID:12391-1713369600-1713373200@nalandauniv.edu.in
SUMMARY:Interaction Session with Dr. Kiran Seth
DESCRIPTION:
URL:https://nalandauniv.edu.in/event/interaction-session-with-dr-kiran-seth/
LOCATION:Campus Inn Lounge\, Nalanda University\, Nalanda\, Rajgir
ATTACH;FMTTYPE=image/jpeg:https://nalandauniv.edu.in/wp-content/uploads/2024/04/WhatsApp-Image-2024-04-15-at-8.11.56-PM.jpeg
END:VEVENT
BEGIN:VEVENT
DTSTART;TZID=Asia/Kolkata:20240417T173000
DTEND;TZID=Asia/Kolkata:20240417T190000
DTSTAMP:20260423T160854
CREATED:20240416T123249Z
LAST-MODIFIED:20241029T121811Z
UID:12396-1713375000-1713380400@nalandauniv.edu.in
SUMMARY:Gotipua(Folk Dance)
DESCRIPTION:
URL:https://nalandauniv.edu.in/event/gotipuafolk-dance/
LOCATION:Sushma Swaraj Auditorium\, Nalanda University
ATTACH;FMTTYPE=image/jpeg:https://nalandauniv.edu.in/wp-content/uploads/2024/04/WhatsApp-Image-2024-04-15-at-8.12.21-PM.jpeg
END:VEVENT
BEGIN:VEVENT
DTSTART;TZID=Asia/Kolkata:20240709T093000
DTEND;TZID=Asia/Kolkata:20240709T093000
DTSTAMP:20260423T160854
CREATED:20240705T092136Z
LAST-MODIFIED:20241112T120652Z
UID:13208-1720517400-1720517400@nalandauniv.edu.in
SUMMARY:Colloquium on BIMSTEC and the Bay: Navigating the Future on 9th July 2024 (Tuesday) 9:30 am at Mini Auditorium
DESCRIPTION:
URL:https://nalandauniv.edu.in/event/upcoming-colloquium/
LOCATION:Mini-Auditorium\, Nalanda University
ATTACH;FMTTYPE=image/jpeg:https://nalandauniv.edu.in/wp-content/uploads/2024/07/BIMSTEC-Colloquium-1-2.jpg
END:VEVENT
BEGIN:VEVENT
DTSTART;TZID=Asia/Kolkata:20240816T100000
DTEND;TZID=Asia/Kolkata:20240816T100000
DTSTAMP:20260423T160854
CREATED:20240818T065327Z
LAST-MODIFIED:20241112T120753Z
UID:13569-1723802400-1723802400@nalandauniv.edu.in
SUMMARY:Lecture by Prof. Sanjay Chaturvedi on August 16\, 2024 at 10 am
DESCRIPTION:
URL:https://nalandauniv.edu.in/event/public-lecture-by-prof-sanjay-chaturvedi-on-august-16-2024-at-10am/
ATTACH;FMTTYPE=image/jpeg:https://nalandauniv.edu.in/wp-content/uploads/2024/11/Public-Lecture-by-Prof.-Sanjay-Chaturvedi-min-scaled.jpg
END:VEVENT
BEGIN:VEVENT
DTSTART;TZID=Asia/Kolkata:20240912T160000
DTEND;TZID=Asia/Kolkata:20240912T170000
DTSTAMP:20260423T160854
CREATED:20241107T091806Z
LAST-MODIFIED:20241112T120918Z
UID:13643-1726156800-1726160400@nalandauniv.edu.in
SUMMARY:Lecture by Prof. P.K.Bajpai on September 12\, 2024 at 4 pm
DESCRIPTION:
URL:https://nalandauniv.edu.in/event/distinguished-lecture-by-prof-p-k-bajpai-on-september-12-2024-at-4pm/
ATTACH;FMTTYPE=image/jpeg:https://nalandauniv.edu.in/wp-content/uploads/2024/11/Distinguished-Lecture-by-Prof.-P.K.Bajpai-scaled.jpg
END:VEVENT
BEGIN:VEVENT
DTSTART;TZID=Asia/Kolkata:20241018T080000
DTEND;TZID=Asia/Kolkata:20241020T170000
DTSTAMP:20260423T160854
CREATED:20241107T093844Z
LAST-MODIFIED:20241107T093844Z
UID:13646-1729238400-1729443600@nalandauniv.edu.in
SUMMARY:Rediscovering the civilisational self: essentials of dharmapal on indian culture\, philosophy and history
DESCRIPTION:
URL:https://nalandauniv.edu.in/event/rediscovering-the-civilisational-self-essentials-of-dharmapal-on-indian-culture-philosophy-and-history/
LOCATION:Mini-Auditorium\, Nalanda University
ATTACH;FMTTYPE=image/png:https://nalandauniv.edu.in/wp-content/uploads/2024/11/Evite-2.png
END:VEVENT
BEGIN:VEVENT
DTSTART;TZID=Asia/Kolkata:20241018T110000
DTEND;TZID=Asia/Kolkata:20241018T110000
DTSTAMP:20260423T160854
CREATED:20241018T102306Z
LAST-MODIFIED:20241112T121051Z
UID:13629-1729249200-1729249200@nalandauniv.edu.in
SUMMARY:Lecture by Dr. J.K.Bajaj on October 18\, 2024 at 11 am
DESCRIPTION:
URL:https://nalandauniv.edu.in/event/icpr-study-circle-lecture-by-dr-j-k-bajaj-on-october-18-2024-at-11am/
ATTACH;FMTTYPE=image/png:https://nalandauniv.edu.in/wp-content/uploads/2024/11/ICPR-Study-Circle-Lecure.png
END:VEVENT
BEGIN:VEVENT
DTSTART;TZID=Asia/Kolkata:20241018T173000
DTEND;TZID=Asia/Kolkata:20241018T200000
DTSTAMP:20260423T160854
CREATED:20241019T084520Z
LAST-MODIFIED:20241112T120625Z
UID:13535-1729272600-1729281600@nalandauniv.edu.in
SUMMARY:Lecture by Prof. Radhavallabh Tripathi on October 18\, 2024 at 5.30 pm
DESCRIPTION:
URL:https://nalandauniv.edu.in/event/nu-icpr-lecture-on-october-18-2024-at-5-30pm/
LOCATION:Mini-Auditorium\, Nalanda University
ATTACH;FMTTYPE=image/png:https://nalandauniv.edu.in/wp-content/uploads/2024/11/thumbnail_NU-ICPR-Distinguished-Lecture.png
END:VEVENT
BEGIN:VEVENT
DTSTART;TZID=Asia/Kolkata:20241022T163000
DTEND;TZID=Asia/Kolkata:20241022T163000
DTSTAMP:20260423T160854
CREATED:20241022T105315Z
LAST-MODIFIED:20250227T120754Z
UID:13609-1729614600-1729614600@nalandauniv.edu.in
SUMMARY:Lecture by Lt. Gen. (Retd.) Dr. P C Nair on October 22\, 2024 at 4.30 pm
DESCRIPTION:
URL:https://nalandauniv.edu.in/event/public-lecture-by-lt-gen-retd-dr-p-c-nair-on-october-22-2024-at-4-30pm-2/
ATTACH;FMTTYPE=image/jpeg:https://nalandauniv.edu.in/wp-content/uploads/2024/11/Public-Lecture-by-Lt.-Gen.-Dr.-Nair_pages-to-jpg-0001-min.jpg
END:VEVENT
BEGIN:VEVENT
DTSTART;TZID=Asia/Kolkata:20241030T110000
DTEND;TZID=Asia/Kolkata:20241030T130000
DTSTAMP:20260423T160854
CREATED:20241029T122421Z
LAST-MODIFIED:20241112T120345Z
UID:13517-1730286000-1730293200@nalandauniv.edu.in
SUMMARY:Lecture by Ven. Geshe Dorji Damdul on October 30\, 2024 at 11 am
DESCRIPTION:
URL:https://nalandauniv.edu.in/event/sbspcr-icpr-study-circle-lecture-by-ven-geshe-dorji-damdul-on-october-30-2024-at-11am/
CATEGORIES:School of Buddhist Studies, Philosophy and Comparative Religions,Schools
ATTACH;FMTTYPE=image/jpeg:https://nalandauniv.edu.in/wp-content/uploads/2024/10/ICPR-study-circle-lecture-Invitation.jpg
END:VEVENT
BEGIN:VEVENT
DTSTART;TZID=Asia/Kolkata:20241113T120000
DTEND;TZID=Asia/Kolkata:20241113T180000
DTSTAMP:20260423T160854
CREATED:20241113T062952Z
LAST-MODIFIED:20241113T062952Z
UID:13669-1731499200-1731520800@nalandauniv.edu.in
SUMMARY:Lecture by Prof. Sat Parashar on November 13\, 2024 at 12 pm
DESCRIPTION:
URL:https://nalandauniv.edu.in/event/lecture-by-prof-sat-parashar-on-november-13-2024-at-12-pm/
LOCATION:Mini-Auditorium\, Nalanda University
ATTACH;FMTTYPE=image/jpeg:https://nalandauniv.edu.in/wp-content/uploads/2024/11/Pubic-Lecture-by-Prof.-Sat-Parashar-scaled.jpg
END:VEVENT
BEGIN:VEVENT
DTSTART;TZID=Asia/Kolkata:20241120T160000
DTEND;TZID=Asia/Kolkata:20241120T183000
DTSTAMP:20260423T160854
CREATED:20241120T062351Z
LAST-MODIFIED:20241120T062717Z
UID:13719-1732118400-1732127400@nalandauniv.edu.in
SUMMARY:Lecture by Dr. David Geary on November 20\, 2024 at 4 pm
DESCRIPTION:
URL:https://nalandauniv.edu.in/event/lecture-by-dr-david-geary-on-november-20-2024-at-4-pm/
LOCATION:Mini-Auditorium\, Nalanda University
CATEGORIES:School of Historical Studies
ATTACH;FMTTYPE=image/jpeg:https://nalandauniv.edu.in/wp-content/uploads/2024/11/Invitation-Lecture-by-Dr.-David-Geary-scaled.jpg
END:VEVENT
BEGIN:VEVENT
DTSTART;TZID=Asia/Kolkata:20250111T100000
DTEND;TZID=Asia/Kolkata:20250111T163000
DTSTAMP:20260423T160854
CREATED:20250110T072203Z
LAST-MODIFIED:20250110T091958Z
UID:13883-1736589600-1736613000@nalandauniv.edu.in
SUMMARY:One Day Offline ORCID GPF 2024 supported workshop on open access publishing
DESCRIPTION:
URL:https://nalandauniv.edu.in/event/one-day-offline-orcid-gpf-2024-supported-workshop-on-open-access-publishing/
LOCATION:Academic	Spine	Auditorium\, Nalanda University
ATTACH;FMTTYPE=application/pdf:https://nalandauniv.edu.in/wp-content/uploads/2025/01/ORCID-NU-1.pdf
END:VEVENT
BEGIN:VEVENT
DTSTART;TZID=Asia/Kolkata:20250111T103000
DTEND;TZID=Asia/Kolkata:20250111T170000
DTSTAMP:20260423T160854
CREATED:20250110T071248Z
LAST-MODIFIED:20250110T091309Z
UID:13894-1736591400-1736614800@nalandauniv.edu.in
SUMMARY:Meet the philosopher: Prof. Arindam Chakrabarti
DESCRIPTION:
URL:https://nalandauniv.edu.in/event/meet-the-philosopher-prof-arindam-chakrabarti/
LOCATION:Mini-Auditorium\, Nalanda University
CATEGORIES:School of Buddhist Studies, Philosophy and Comparative Religions
ATTACH;FMTTYPE=image/jpeg:https://nalandauniv.edu.in/wp-content/uploads/2025/01/11-Jan-2025-WPD-1_page-0001.jpg
END:VEVENT
BEGIN:VEVENT
DTSTART;TZID=Asia/Kolkata:20250112T103000
DTEND;TZID=Asia/Kolkata:20250112T190000
DTSTAMP:20260423T160854
CREATED:20250110T075537Z
LAST-MODIFIED:20250110T092305Z
UID:13887-1736677800-1736708400@nalandauniv.edu.in
SUMMARY:Lecture by Prof. Arindam Chakrabarti on the topic "Swami	Vivekananda’s Vedānta of Love"
DESCRIPTION:
URL:https://nalandauniv.edu.in/event/lecture-by-prof-arindam-chakrabarti-on-january-12/
LOCATION:Mini-Auditorium\, Nalanda University
CATEGORIES:School of Buddhist Studies, Philosophy and Comparative Religions
ATTACH;FMTTYPE=image/jpeg:https://nalandauniv.edu.in/wp-content/uploads/2025/01/12-Jan-2025-ISC-Lecture_page-0001.jpg
END:VEVENT
BEGIN:VEVENT
DTSTART;TZID=Asia/Kolkata:20250131T163000
DTEND;TZID=Asia/Kolkata:20250131T190000
DTSTAMP:20260423T160854
CREATED:20250129T050534Z
LAST-MODIFIED:20250131T050619Z
UID:14166-1738341000-1738350000@nalandauniv.edu.in
SUMMARY:Lecture on Symmetry	and	Mirroring as Deining Principles	of Art in India and	Kucha
DESCRIPTION:
URL:https://nalandauniv.edu.in/event/lecture-on-symmetryandmirroring-as-deining-principlesof-art-in-india-andkucha/
LOCATION:Mini-Auditorium\, Nalanda University
CATEGORIES:School of Historical Studies
ATTACH;FMTTYPE=image/jpeg:https://nalandauniv.edu.in/wp-content/uploads/2025/01/SHS-Online-Distinguished-Lecture-on-Jan-31-2025_page-0001-1.jpg
END:VEVENT
BEGIN:VEVENT
DTSTART;TZID=Asia/Kolkata:20250201T150000
DTEND;TZID=Asia/Kolkata:20250204T190000
DTSTAMP:20260423T160854
CREATED:20250130T055624Z
LAST-MODIFIED:20250212T060327Z
UID:14133-1738422000-1738695600@nalandauniv.edu.in
SUMMARY:SHS Special Lecture on Greek	History\, Literature and Culture
DESCRIPTION:
URL:https://nalandauniv.edu.in/event/shs-special-lecture-on-greekhistory-literature-and-culture/
LOCATION:Academic	Spine	Auditorium\, Nalanda University
CATEGORIES:School of Historical Studies
ATTACH;FMTTYPE=image/jpeg:https://nalandauniv.edu.in/wp-content/uploads/2025/01/1-Feb-2025_page-0001.jpg
END:VEVENT
BEGIN:VEVENT
DTSTART;TZID=Asia/Kolkata:20250210T150000
DTEND;TZID=Asia/Kolkata:20250213T170000
DTSTAMP:20260423T160854
CREATED:20250212T060057Z
LAST-MODIFIED:20250225T123209Z
UID:14219-1739199600-1739466000@nalandauniv.edu.in
SUMMARY:SHS Workshop on Art\, Iconography\, Numismatics
DESCRIPTION:
URL:https://nalandauniv.edu.in/event/shs-workshop-on-art-iconography-numismatics/
LOCATION:Academic	Spine	Auditorium\, Nalanda University
CATEGORIES:School of Historical Studies
ATTACH;FMTTYPE=image/jpeg:https://nalandauniv.edu.in/wp-content/uploads/2025/02/SHS-Workshop_page-0001-1.jpg
END:VEVENT
END:VCALENDAR