BEGIN:VCALENDAR
VERSION:2.0
PRODID:-//Nalanda University - ECPv6.15.18//NONSGML v1.0//EN
CALSCALE:GREGORIAN
METHOD:PUBLISH
X-WR-CALNAME:Nalanda University
X-ORIGINAL-URL:https://nalandauniv.edu.in
X-WR-CALDESC:Events for Nalanda University
REFRESH-INTERVAL;VALUE=DURATION:PT1H
X-Robots-Tag:noindex
X-PUBLISHED-TTL:PT1H
BEGIN:VTIMEZONE
TZID:Asia/Kolkata
BEGIN:STANDARD
TZOFFSETFROM:+0530
TZOFFSETTO:+0530
TZNAME:IST
DTSTART:20240101T000000
END:STANDARD
END:VTIMEZONE
BEGIN:VEVENT
DTSTART;TZID=Asia/Kolkata:20250320T170000
DTEND;TZID=Asia/Kolkata:20250320T170000
DTSTAMP:20260423T130904
CREATED:20250320T050545Z
LAST-MODIFIED:20250320T050545Z
UID:14570-1742490000-1742490000@nalandauniv.edu.in
SUMMARY:SBSPCR-ICPR Study Circle Lecture by Prof. Rajnish Kumar Mishra
DESCRIPTION:
URL:https://nalandauniv.edu.in/event/sbspcr-icpr-study-circle-lecture-by-prof-rajnish-kumar-mishra/
LOCATION:Mini-Auditorium\, Nalanda University
CATEGORIES:School of Buddhist Studies, Philosophy and Comparative Religions
ATTACH;FMTTYPE=image/jpeg:https://nalandauniv.edu.in/wp-content/uploads/2025/03/ICPR-SBSPCR-Study-Circle-Lecture.jpeg
END:VEVENT
BEGIN:VEVENT
DTSTART;TZID=Asia/Kolkata:20250405T170000
DTEND;TZID=Asia/Kolkata:20250405T170000
DTSTAMP:20260423T130904
CREATED:20250407T051138Z
LAST-MODIFIED:20250407T051138Z
UID:14614-1743872400-1743872400@nalandauniv.edu.in
SUMMARY:SBSPCR-ICPR Study Circle Lecture by Prof. Pradeep P. Gokhale
DESCRIPTION:
URL:https://nalandauniv.edu.in/event/sbspcr-icpr-study-circle-lecture-by-prof-pradeep-p-gokhale/
LOCATION:Mini-Auditorium\, Nalanda University
CATEGORIES:School of Buddhist Studies, Philosophy and Comparative Religions
ATTACH;FMTTYPE=image/jpeg:https://nalandauniv.edu.in/wp-content/uploads/2025/04/SBSPCR-ICPR-Study-Circle-Lecture-April-2025.jpeg
END:VEVENT
BEGIN:VEVENT
DTSTART;VALUE=DATE:20250411
DTEND;VALUE=DATE:20250413
DTSTAMP:20260423T130904
CREATED:20250411T055645Z
LAST-MODIFIED:20250411T060048Z
UID:14628-1744329600-1744502399@nalandauniv.edu.in
SUMMARY:Geriatric Yoga Workshop
DESCRIPTION:
URL:https://nalandauniv.edu.in/event/geriatric-yoga-workshop/
LOCATION:Yoga Centre\, Nalanda University
ATTACH;FMTTYPE=image/jpeg:https://nalandauniv.edu.in/wp-content/uploads/2025/04/487975236_699124229112282_7480182772424000111_n.jpg
END:VEVENT
BEGIN:VEVENT
DTSTART;VALUE=DATE:20250515
DTEND;VALUE=DATE:20250516
DTSTAMP:20260423T130904
CREATED:20250516T070627Z
LAST-MODIFIED:20250516T070931Z
UID:14920-1747267200-1747353599@nalandauniv.edu.in
SUMMARY:Telhara: Unfolding the Saga of Resilence and	Creativity	through Archaeology by Dr. Bijoy Kumar Choudhary
DESCRIPTION:
URL:https://nalandauniv.edu.in/event/request-to-update-in-the-website-social-media-regarding-todays-distinguish-lecture/
LOCATION:Academic	Spine	Auditorium\, Nalanda University
CATEGORIES:School of Historical Studies
ATTACH;FMTTYPE=image/jpeg:https://nalandauniv.edu.in/wp-content/uploads/2025/05/SHS-Online-Distinguished-Lecture-May-15-2025_pages-to-jpg-0001.jpg
END:VEVENT
BEGIN:VEVENT
DTSTART;VALUE=DATE:20250711
DTEND;VALUE=DATE:20250714
DTSTAMP:20260423T130904
CREATED:20250711T055815Z
LAST-MODIFIED:20250711T060114Z
UID:15658-1752192000-1752451199@nalandauniv.edu.in
SUMMARY:Retreat with Economists at Nalanda University\, Rajgir\, Bihar | 11-13 July 2025
DESCRIPTION:
URL:https://nalandauniv.edu.in/event/retreat-with-economists-at-nalanda-university-rajgir-bihar-11-13-july-2025/
ATTACH;FMTTYPE=image/jpeg:https://nalandauniv.edu.in/wp-content/uploads/2025/07/Mandaar-Manthan-2-Brochure-2-1_page-0001-scaled.jpg
END:VEVENT
BEGIN:VEVENT
DTSTART;VALUE=DATE:20250917
DTEND;VALUE=DATE:20250920
DTSTAMP:20260423T130904
CREATED:20250917T064655Z
LAST-MODIFIED:20250917T064739Z
UID:15890-1758067200-1758326399@nalandauniv.edu.in
SUMMARY:Nalanda University hosts the EAS Conclave of Heads of Higher Education Institutions & EAS Knowledge Exchange Workshop on Energy Efficiency & Mission LiFE\, from 17-19 September\, 2025.
DESCRIPTION:
URL:https://nalandauniv.edu.in/event/nalanda-university-hosts-the-eas-conclave-of-heads-of-higher-education-institutions-eas-knowledge-exchange-workshop-on-energy-efficiency-mission-life-from-17-19-september-2025/
LOCATION:Nalanda University\, Rajgir\, Bihar
ATTACH;FMTTYPE=image/jpeg:https://nalandauniv.edu.in/wp-content/uploads/2025/09/WhatsApp-Image-2025-09-17-at-09.42.18_bc8b006c.jpg
END:VEVENT
BEGIN:VEVENT
DTSTART;VALUE=DATE:20251010
DTEND;VALUE=DATE:20251012
DTSTAMP:20260423T130904
CREATED:20250519T124930Z
LAST-MODIFIED:20250519T125222Z
UID:15099-1760054400-1760227199@nalandauniv.edu.in
SUMMARY:The Buddhist Women Research Center – Vietnam Buddhist Research Institute in collaboration with Nalanda University
DESCRIPTION:
URL:https://nalandauniv.edu.in/event/the-buddhist-women-research-center-vietnam-buddhist-research-institute-in-collaboration-with-nalanda-university-cordially-invite-researchers-policymakers-and-practitioners-to-submit-papers/
LOCATION:Nalanda University\, Rajgir\, Bihar
ATTACH;FMTTYPE=image/jpeg:https://nalandauniv.edu.in/wp-content/uploads/2025/05/Buddhist-conference-poster-1_page-0001-min-scaled.jpg
END:VEVENT
BEGIN:VEVENT
DTSTART;TZID=Asia/Kolkata:20251013T160000
DTEND;TZID=Asia/Kolkata:20251013T180000
DTSTAMP:20260423T130904
CREATED:20251203T092646Z
LAST-MODIFIED:20251203T092919Z
UID:16230-1760371200-1760378400@nalandauniv.edu.in
SUMMARY:Raj Bhavan - Nalanda Lecture Series : Atmanirbharta and MAGA in a Multipolar World
DESCRIPTION:L-R; Professor Sachin Chaturvedi\, Vice Chancellor\, Nalanda University\, H.E. Arif Mohammad Khan\, Hon’ble Governor of Bihar\, and Renowned thinker and economist Swaminathan Gurumurthy\, at the inaugural Raj Bhavan – Nalanda University Lecture Series organized at Raj Bhavan\, Patna\, Bihar on 13 October\, 2025. \nProfessor Sachin Chaturvedi\, Vice Chancellor\, Nalanda University\, H.E. Arif Mohammad Khan\, Hon’ble Governor of Bihar\, and Renowned thinker and economist Swaminathan Gurumurthy inaugurating the Raj Bhavan – Nalanda University Lecture Series at Raj Bhavan\, Patna\, Bihar on 13 October\, 2025. \nH.E. Arif Mohammad Khan\, Hon’ble Governor of Bihar addressing the distinguished audience at the Raj Bhavan – Nalanda University Lecture Series. \nRenowned thinker and Economist Swaminathan Gurumurthy delivering his keynote address at the inaugural Raj Bhavan – Nalanda University Lecture Series organized at Raj Bhavan\, Patna\, Bihar on 13 October\, 2025. \nProfessor Sachin Chaturvedi\, Vice Chancellor\, Nalanda University addressing the audience at the Raj Bhavan – Nalanda University Lecture Series. \nRenowned thinker and Economist Swaminathan Gurumurthy speaking at the inaugural Raj Bhavan – Nalanda University Lecture Series organized at Raj Bhavan\, Patna\, Bihar on 13 October\, 2025.
URL:https://nalandauniv.edu.in/event/raj-bhavan-nalanda-lecture-series-atmanirbharta-and-maga-in-a-multipolar-world/
END:VEVENT
BEGIN:VEVENT
DTSTART;TZID=Asia/Kolkata:20251026T100000
DTEND;TZID=Asia/Kolkata:20251026T170000
DTSTAMP:20260423T130904
CREATED:20251024T074124Z
LAST-MODIFIED:20251024T074655Z
UID:15960-1761472800-1761498000@nalandauniv.edu.in
SUMMARY:One Day Workshop on "India and South East Asia: Two Episodes from Shared Past and Connected History " by Robert Linrothe\, Associate Professor Emeritus of Art History\, Northwestern University.
DESCRIPTION:
URL:https://nalandauniv.edu.in/event/one-day-workshop-on-india-and-south-east-asia-two-episodes-from-shared-past-and-connected-history-by-robert-linrothe-associate-professor-emeritus-of-art-history-northwestern-university/
CATEGORIES:School of Historical Studies
ATTACH;FMTTYPE=image/jpeg:https://nalandauniv.edu.in/wp-content/uploads/2025/10/Rob-Workshop-2025-1.jpg
END:VEVENT
BEGIN:VEVENT
DTSTART;VALUE=DATE:20251225
DTEND;VALUE=DATE:20251230
DTSTAMP:20260423T130904
CREATED:20251112T070558Z
LAST-MODIFIED:20251112T071250Z
UID:16068-1766620800-1767052799@nalandauniv.edu.in
SUMMARY:A Five Day Executive Certificate Course in Net-Zero Strategy- 25-29 December 2025.
DESCRIPTION:
URL:https://nalandauniv.edu.in/event/a-five-day-executive-certificate-course-in-net-zero-strategy-25-29-december-2025/
ATTACH;FMTTYPE=image/jpeg:https://nalandauniv.edu.in/wp-content/uploads/2025/11/Nalanda-Net-Zero-Course-Brochure-and-Fee-Structure-conv-1-scaled.jpeg
END:VEVENT
BEGIN:VEVENT
DTSTART;VALUE=DATE:20260109
DTEND;VALUE=DATE:20260111
DTSTAMP:20260423T130904
CREATED:20251203T072252Z
LAST-MODIFIED:20251218T053931Z
UID:16216-1767916800-1768089599@nalandauniv.edu.in
SUMMARY:राष्ट्रीय शोध संगोष्ठी : विश्वबन्धुत्व के संवर्धन में हिन्दी भाषा और नालन्दा परम्परा
DESCRIPTION:
URL:https://nalandauniv.edu.in/event/%e0%a4%b0%e0%a4%be%e0%a4%b7%e0%a5%8d%e0%a4%9f%e0%a5%8d%e0%a4%b0%e0%a5%80%e0%a4%af-%e0%a4%b6%e0%a5%8b%e0%a4%a7-%e0%a4%b8%e0%a4%82%e0%a4%97%e0%a5%8b%e0%a4%b7%e0%a5%8d%e0%a4%a0%e0%a5%80-%e0%a4%b5/
END:VEVENT
BEGIN:VEVENT
DTSTART;VALUE=DATE:20260131
DTEND;VALUE=DATE:20260202
DTSTAMP:20260423T130904
CREATED:20260128T054924Z
LAST-MODIFIED:20260128T062228Z
UID:17114-1769817600-1769990399@nalandauniv.edu.in
SUMMARY:Distinguished Lectures by Ven. Prof. K L Dhammajoti
DESCRIPTION:
URL:https://nalandauniv.edu.in/event/distinguished-lectures-by-ven-prof-k-l-dhammajoti/
LOCATION:Mini-Auditorium\, Nalanda University
CATEGORIES:School of Buddhist Studies, Philosophy and Comparative Religions
ATTACH;FMTTYPE=image/jpeg:https://nalandauniv.edu.in/wp-content/uploads/2026/01/KL-Dhammajyoti-Distinguished-Lecture_page-0001.jpg
END:VEVENT
BEGIN:VEVENT
DTSTART;VALUE=DATE:20260220
DTEND;VALUE=DATE:20260222
DTSTAMP:20260423T130904
CREATED:20260203T082102Z
LAST-MODIFIED:20260203T082209Z
UID:17177-1771545600-1771718399@nalandauniv.edu.in
SUMMARY:Workshop on "Nalanda’s Contribution to the Ancient World of Metallurgy\, Art\, and Culture" - 20-21 February 2026.
DESCRIPTION:
URL:https://nalandauniv.edu.in/event/workshop-on-nalandas-contribution-to-the-ancient-world-of-metallurgy-art-and-culture-20-21-february-2026/
LOCATION:Nalanda University\, Rajgir\, Bihar
ATTACH;FMTTYPE=image/jpeg:https://nalandauniv.edu.in/wp-content/uploads/2026/02/Metallurgy-Workshop-Arch-2026_page-0001-scaled.jpg
END:VEVENT
BEGIN:VEVENT
DTSTART;TZID=Asia/Kolkata:20260331T113000
DTEND;TZID=Asia/Kolkata:20260331T150000
DTSTAMP:20260423T130904
CREATED:20260331T022548Z
LAST-MODIFIED:20260331T022548Z
UID:17420-1774956600-1774969200@nalandauniv.edu.in
SUMMARY:2nd Convocation of Nalanda University
DESCRIPTION:
URL:https://nalandauniv.edu.in/event/2nd-convocation-of-nalanda-university/
END:VEVENT
END:VCALENDAR