BEGIN:VCALENDAR
VERSION:2.0
PRODID:-//Nalanda University - ECPv6.15.18//NONSGML v1.0//EN
CALSCALE:GREGORIAN
METHOD:PUBLISH
X-WR-CALNAME:Nalanda University
X-ORIGINAL-URL:https://nalandauniv.edu.in
X-WR-CALDESC:Events for Nalanda University
REFRESH-INTERVAL;VALUE=DURATION:PT1H
X-Robots-Tag:noindex
X-PUBLISHED-TTL:PT1H
BEGIN:VTIMEZONE
TZID:Asia/Kolkata
BEGIN:STANDARD
TZOFFSETFROM:+0530
TZOFFSETTO:+0530
TZNAME:IST
DTSTART:20200101T000000
END:STANDARD
END:VTIMEZONE
BEGIN:VEVENT
DTSTART;TZID=Asia/Kolkata:20230224T080000
DTEND;TZID=Asia/Kolkata:20230224T170000
DTSTAMP:20260423T132930
CREATED:20230224T081122Z
LAST-MODIFIED:20240124T081949Z
UID:11566-1677225600-1677258000@nalandauniv.edu.in
SUMMARY:Lecture Program on the Importance of Thīrthayātra in Buddhist Tradition
DESCRIPTION:The SBSPCR organised a joint academic event between Nalanda University\, Rajgir\, India and Dongguk University\, South Korea\, on February 24\, 2023. The details of the speakers and the topic on which they spoke are as follows: \n\nProf. HWANG Soonil\, D. Phil\, Dean\, College of Buddhism\, Dongguk University\nDr. Park Cheonghwan (Ven. Jongduk)\, D. Phil\, Director\, Institute of Buddhist Culture\, Dongguk University\nProf. LEE Geo Lyong\, Director\, Department of Integrative Medicine\, Sun Moon University\n\nSBSPCR Distinguished Lecture \n\nProf. Hwang Soonil delivered a Distinguished Lecture in the SBSPCR Lecture Series on November 21\, 2022 (Monday) at 4.30 pm (IST) in the Mini Auditorium on the topic of ‘Concept of (Dāna) Donation Magnanimity on Buddhist Tradition’ at the Main Campus of the University.\nProf. Shobharani Dash delivered a distinguished lecture on August 8th\, 2022\, at the mini auditorium of the University on the topic of ‘Building bridges cultural spiritual and philosophical linkages between India and Japan’
URL:https://nalandauniv.edu.in/event/lecture-program-on-the-importance-of-thirthayatra-in-buddhist-tradition/
CATEGORIES:School of Buddhist Studies, Philosophy and Comparative Religions
ATTACH;FMTTYPE=image/jpeg:https://nalandauniv.edu.in/wp-content/uploads/2023/02/SBSPCR-10-scaled.jpg
END:VEVENT
BEGIN:VEVENT
DTSTART;TZID=Asia/Kolkata:20230213T080000
DTEND;TZID=Asia/Kolkata:20230418T170000
DTSTAMP:20260423T132930
CREATED:20230418T083715Z
LAST-MODIFIED:20240124T090525Z
UID:11577-1676275200-1681837200@nalandauniv.edu.in
SUMMARY:SBSPCR extension lectures by Prof. Diwakar Acharya
DESCRIPTION:SBSPCR conducted a series of Extension lectures by Prof. Diwakarnath Acharya\, Spalding Professor of Eastern Religions and Ethics at the University of Oxford as a part of the courses named ‘Sources of Indian Knowledge Tradition: Sūtra\, Vārtika & Bhāṣya’ offered to the III semester students and ‘Vālmīki-Rāmāyaṇa: Textual and Thematic Study’ offered to the II semester students of M.A. in Hindu Studies (Sanātana). The lectures were conducted virtually on 13th and 14th February 2023\, 17th March 2023\, 12th and 18th April 2023.
URL:https://nalandauniv.edu.in/event/sbspcr-extension-lectures-by-prof-diwakar-acharya/
CATEGORIES:School of Buddhist Studies, Philosophy and Comparative Religions
ATTACH;FMTTYPE=image/jpeg:https://nalandauniv.edu.in/wp-content/uploads/2023/04/SBSPCR-6-scaled.jpg
END:VEVENT
BEGIN:VEVENT
DTSTART;VALUE=DATE:20230203
DTEND;VALUE=DATE:20230204
DTSTAMP:20260423T132930
CREATED:20230203T080219Z
LAST-MODIFIED:20240124T080531Z
UID:11563-1675382400-1675468799@nalandauniv.edu.in
SUMMARY:Workshop on 'Indian Knowledge Systems - A Historical Perspective' by Dr. Raj Vedam\, Faculty\, Hindu University of America\, USA
DESCRIPTION:The SBSPCR organised a One-day Workshop by Dr. Raj Vedam from the Hindu University of America\, USA\, on 03.02.2023. In this workshop\, Dr. Raj Vedam dealt with the material from various domains to debunk the historical narrative the West propagated in the world. \n 
URL:https://nalandauniv.edu.in/event/workshop-on-indian-knowledge-systems-a-historical-perspective-by-dr-raj-vedam-faculty-hindu-university-of-america-usa/
CATEGORIES:School of Buddhist Studies, Philosophy and Comparative Religions
ATTACH;FMTTYPE=image/jpeg:https://nalandauniv.edu.in/wp-content/uploads/2023/02/SBSPCR-7.jpg
END:VEVENT
BEGIN:VEVENT
DTSTART;TZID=Asia/Kolkata:20220808T160000
DTEND;TZID=Asia/Kolkata:20220808T160000
DTSTAMP:20260423T132930
CREATED:20220808T091251Z
LAST-MODIFIED:20241112T122907Z
UID:9399-1659974400-1659974400@nalandauniv.edu.in
SUMMARY:Lecture by Professor Shobha Rani Dash on "Building Bridges: Cultural\, Philosophical and Spiritual Linkages between India and Japan”
DESCRIPTION:
URL:https://nalandauniv.edu.in/event/sbspcr-distinguished-lecture-by-professor-shobha-rani-dash-on-building-bridges-cultural-philosophical-and-spiritual-linkages-between-india-and-japan/
CATEGORIES:School of Buddhist Studies, Philosophy and Comparative Religions
ATTACH;FMTTYPE=image/jpeg:https://nalandauniv.edu.in/wp-content/uploads/2022/08/IMG05082022-1.jpg
END:VEVENT
BEGIN:VEVENT
DTSTART;TZID=Asia/Kolkata:20220621T064500
DTEND;TZID=Asia/Kolkata:20220621T200000
DTSTAMP:20260423T132930
CREATED:20220624T110408Z
LAST-MODIFIED:20220624T111141Z
UID:9211-1655793900-1655841600@nalandauniv.edu.in
SUMMARY:International Yoga Day 2022: Yoga for Humanity
DESCRIPTION:
URL:https://nalandauniv.edu.in/event/international-yoga-day-2022-yoga-for-humanity/
CATEGORIES:Cultural program
ATTACH;FMTTYPE=image/jpeg:https://nalandauniv.edu.in/wp-content/uploads/2022/06/IMG2106221.jpg
END:VEVENT
BEGIN:VEVENT
DTSTART;TZID=Asia/Kolkata:20220601T000000
DTEND;TZID=Asia/Kolkata:20220605T000000
DTSTAMP:20260423T132930
CREATED:20220607T105756Z
LAST-MODIFIED:20220608T111542Z
UID:8972-1654041600-1654387200@nalandauniv.edu.in
SUMMARY:Nalanda University Environment Week- 2022: #OnlyOneEarth
DESCRIPTION:Day – 1\n\n\n\n\n\n\n\n\n\n\n\n\n\n\n\n\n\n\n\n\nDay – 2\n\n\n\n\n\n\n\n\n\n\n\n\n\n\n\n\n\n\n\nDay – 3\n\n\n\n\n\n\n\n\n\n\n\n\n\n\n\n\n\n\n\n\n\n\n\n\n\n\n\n\n\n\n\n\n\n\n\n\nDay – 4\n\n\n\n\n\n\n\n\n\n\n\n\n\n\n\n\n\n\n\nDay – 5
URL:https://nalandauniv.edu.in/event/nalanda-university-environment-week-2022-onlyoneearth/
CATEGORIES:Cultural program
ATTACH;FMTTYPE=image/jpeg:https://nalandauniv.edu.in/wp-content/uploads/2022/06/day-1-big-img-min.jpg
END:VEVENT
BEGIN:VEVENT
DTSTART;TZID=Asia/Kolkata:20220506T113000
DTEND;TZID=Asia/Kolkata:20220506T113000
DTSTAMP:20260423T132930
CREATED:20220505T045730Z
LAST-MODIFIED:20241112T122653Z
UID:8773-1651836600-1651836600@nalandauniv.edu.in
SUMMARY:Lecture by Professor Jan E.M. Houben on  "Vedic mantras\, Vedic language and Sanskrit\, Pali and Avestan”
DESCRIPTION:
URL:https://nalandauniv.edu.in/event/sbspcr-extension-lecture-by-professor-jan-e-m-houben-on-vedic-mantras-vedic-language-and-sanskrit-pali-and-avestan/
CATEGORIES:School of Buddhist Studies, Philosophy and Comparative Religions
ATTACH;FMTTYPE=image/jpeg:https://nalandauniv.edu.in/wp-content/uploads/2022/05/IMG040522-1-min-scaled.jpg
END:VEVENT
BEGIN:VEVENT
DTSTART;TZID=Asia/Kolkata:20220429T113000
DTEND;TZID=Asia/Kolkata:20220429T113000
DTSTAMP:20260423T132930
CREATED:20220428T113127Z
LAST-MODIFIED:20250630T124155Z
UID:8754-1651231800-1651231800@nalandauniv.edu.in
SUMMARY:Lecture by Professor Jan E.M. Houben on “Vision and Inspiration of the Vedic Poets”
DESCRIPTION:
URL:https://nalandauniv.edu.in/event/extension-lecture-by-professor-jan-e-m-houben-on-vision-and-inspiration-of-the-vedic-poets/
CATEGORIES:School of Buddhist Studies, Philosophy and Comparative Religions
ATTACH;FMTTYPE=image/jpeg:https://nalandauniv.edu.in/wp-content/uploads/2022/04/img1-1.jpg
END:VEVENT
BEGIN:VEVENT
DTSTART;TZID=Asia/Kolkata:20220426T180000
DTEND;TZID=Asia/Kolkata:20220426T180000
DTSTAMP:20260423T132930
CREATED:20220426T054412Z
LAST-MODIFIED:20220426T063735Z
UID:8717-1650996000-1650996000@nalandauniv.edu.in
SUMMARY:Classical music recital by Pt. Vishwa Mohan Bhatt @ NU\, April 26\, 2022
DESCRIPTION:Celebration of classical music with maestro Pandit Vishwa Mohan Bhatt\, Padma Bhushan & Grammy awardee\, as part of Azadi Ka Amrit Mahotsav
URL:https://nalandauniv.edu.in/event/classical-music-recital-by-pt-vishwa-mohan-bhatt-nu-april-26-2022/
CATEGORIES:Cultural program
ATTACH;FMTTYPE=image/jpeg:https://nalandauniv.edu.in/wp-content/uploads/2022/04/NU_SM-1.jpg
END:VEVENT
BEGIN:VEVENT
DTSTART;TZID=Asia/Kolkata:20220403T080000
DTEND;TZID=Asia/Kolkata:20220403T170000
DTSTAMP:20260423T132930
CREATED:20231219T122058Z
LAST-MODIFIED:20231219T122930Z
UID:10608-1648972800-1649005200@nalandauniv.edu.in
SUMMARY:Field Trip to Rajgir Archaeological Sites  School of Historical Studies (SHS)
DESCRIPTION:A field trip to the archaeological sites of Rajgir was conducted on 03.04.2022 by the faculty members of the School of Historical Studies. The students were educated about the following archaeological sites: Ajathasatru fort\, Cyclopean wall/fortification wall of old Rajagriha city\, inner rampart\, chariot wheel marks site\, ancient shell script site\, Chorma Cave\, Maniyar Math\, and Swarn Bhandar Cave by this visit. They also explored\, observed\, and experienced various geological features of Rajgir Hills. \nPractical field methods were demonstrated to understand surface archaeological finds\, historical pottery\, ancient script\, art and architecture\, military architecture\, fort\, fortifications and bastions. The minute details of the southern Cyclopean wall and bastions of the ancient Rajagriha city; its construction pattern\, functions and issues related to its conservation and preservations were studied. The ancient chariot wheel marks on the rocky surface of Udayagiri foothills reveal the ancient trade route. The shell script inscription found at the site tells about the nature of the scripts. The Chorma cave exemplifies the types of the cave used for prehistoric habitation and succeedingly reoccupied during the historical times. The preparation of the habitation floor inside the cave indicates its being occupied by some important Buddhist/Jain monk and makes it unique among all other caves in the area. Students undertook the adventure of climbing and exploring inside the cave and learned about the formation processes related to archaeological deposits. \nEthnographic field trip to Potters workshop \nStudents were taken to potters’ workshops located at Giriyak road in Rajgir to experience the pottery making practices. This visit developed their ethnographic observation skills and knowledge of ceramic technology. The students keenly observed the process related to clay preparation methods and raw materials used for manufacturing the pottery. Students observed various ceramic types\, technology\, designs\, shape\, size and paintings. The furnace area was visited to learn about furnace size\, types of fuel\, temperature\, and characteristic features of a potter’s kiln area. Overall field trip was exciting for the students to learn about the prehistoric and historic settlement patterns and ethnoarchaeology of the living communities of Rajgir and its surroundings. \nFig.1 Students visiting and learning about the Ajathasatru fort and fortification system
URL:https://nalandauniv.edu.in/event/field-trip-to-rajgir-archaeological-sites-school-of-historical-studies-shs/
CATEGORIES:School of Historical Studies
END:VEVENT
BEGIN:VEVENT
DTSTART;TZID=Asia/Kolkata:20220323T163000
DTEND;TZID=Asia/Kolkata:20220323T163000
DTSTAMP:20260423T132930
CREATED:20220426T064204Z
LAST-MODIFIED:20241112T122952Z
UID:8721-1648053000-1648053000@nalandauniv.edu.in
SUMMARY:Lecture: The Metropolis in the Province: Interrogating the New World by Prof R Raj Rao
DESCRIPTION:
URL:https://nalandauniv.edu.in/event/sll-h-distinguished-lecture-the-metropolis-in-the-province-interrogating-the-new-world-by-prof-r-raj-rao/
CATEGORIES:The School of Languages and Literature/Humanities
ATTACH;FMTTYPE=image/jpeg:https://nalandauniv.edu.in/wp-content/uploads/2022/03/2022-03-23_Lecture-Series_SLLH.jpg
END:VEVENT
BEGIN:VEVENT
DTSTART;VALUE=DATE:20211227
DTEND;VALUE=DATE:20220101
DTSTAMP:20260423T132930
CREATED:20210923T123956Z
LAST-MODIFIED:20210923T133959Z
UID:7877-1640563200-1640995199@nalandauniv.edu.in
SUMMARY:Evaluation Week SEMESTER-III
DESCRIPTION:1 Week
URL:https://nalandauniv.edu.in/event/evaluation-week-semester-iii/
END:VEVENT
BEGIN:VEVENT
DTSTART;VALUE=DATE:20211225
DTEND;VALUE=DATE:20211226
DTSTAMP:20260423T132930
CREATED:20210923T133909Z
LAST-MODIFIED:20210923T133909Z
UID:7903-1640390400-1640476799@nalandauniv.edu.in
SUMMARY:Christmas Day
DESCRIPTION:
URL:https://nalandauniv.edu.in/event/christmas-day/
END:VEVENT
BEGIN:VEVENT
DTSTART;VALUE=DATE:20211213
DTEND;VALUE=DATE:20211225
DTSTAMP:20260423T132930
CREATED:20210923T123644Z
LAST-MODIFIED:20210923T134034Z
UID:7875-1639353600-1640390399@nalandauniv.edu.in
SUMMARY:End Semester Examinations SEMESTER-III
DESCRIPTION:2 Weeks
URL:https://nalandauniv.edu.in/event/end-semester-examinations/
END:VEVENT
BEGIN:VEVENT
DTSTART;VALUE=DATE:20211206
DTEND;VALUE=DATE:20211211
DTSTAMP:20260423T132930
CREATED:20210923T123548Z
LAST-MODIFIED:20210923T134118Z
UID:7873-1638748800-1639180799@nalandauniv.edu.in
SUMMARY:Reading Week SEMESTER-III
DESCRIPTION:1 Week
URL:https://nalandauniv.edu.in/event/reading-week/
END:VEVENT
BEGIN:VEVENT
DTSTART;VALUE=DATE:20211119
DTEND;VALUE=DATE:20211120
DTSTAMP:20260423T132930
CREATED:20210923T133800Z
LAST-MODIFIED:20210923T133817Z
UID:7901-1637280000-1637366399@nalandauniv.edu.in
SUMMARY:Guru Nanak’s Birthday
DESCRIPTION:
URL:https://nalandauniv.edu.in/event/guru-nanaks-birthday/
END:VEVENT
BEGIN:VEVENT
DTSTART;VALUE=DATE:20211110
DTEND;VALUE=DATE:20211111
DTSTAMP:20260423T132930
CREATED:20210923T133706Z
LAST-MODIFIED:20210923T134207Z
UID:7899-1636502400-1636588799@nalandauniv.edu.in
SUMMARY:Chhath Pooja
DESCRIPTION:
URL:https://nalandauniv.edu.in/event/chhath-pooja/
END:VEVENT
BEGIN:VEVENT
DTSTART;VALUE=DATE:20211104
DTEND;VALUE=DATE:20211105
DTSTAMP:20260423T132930
CREATED:20210923T133619Z
LAST-MODIFIED:20210923T134220Z
UID:7897-1635984000-1636070399@nalandauniv.edu.in
SUMMARY:Diwali (Deepavali)
DESCRIPTION:
URL:https://nalandauniv.edu.in/event/diwali-deepavali/
END:VEVENT
BEGIN:VEVENT
DTSTART;VALUE=DATE:20211019
DTEND;VALUE=DATE:20211020
DTSTAMP:20260423T132930
CREATED:20210923T133518Z
LAST-MODIFIED:20210923T134234Z
UID:7895-1634601600-1634687999@nalandauniv.edu.in
SUMMARY:Milad-un-Nabi or Id-e-Milad
DESCRIPTION:
URL:https://nalandauniv.edu.in/event/milad-un-nabi-or-id-e-milad/
END:VEVENT
BEGIN:VEVENT
DTSTART;VALUE=DATE:20211018
DTEND;VALUE=DATE:20211211
DTSTAMP:20260423T132930
CREATED:20210923T124933Z
LAST-MODIFIED:20210923T134255Z
UID:7887-1634515200-1639180799@nalandauniv.edu.in
SUMMARY:Week 06– Week 13 (Teaching) SEMESTER-I
DESCRIPTION:8 Weeks
URL:https://nalandauniv.edu.in/event/week-06-week-13-teaching-semester-i/
END:VEVENT
BEGIN:VEVENT
DTSTART;VALUE=DATE:20211018
DTEND;VALUE=DATE:20211204
DTSTAMP:20260423T132930
CREATED:20210923T123424Z
LAST-MODIFIED:20210923T134312Z
UID:7871-1634515200-1638575999@nalandauniv.edu.in
SUMMARY:Week 08– Week 14 (Teaching) SEMESTER-III
DESCRIPTION:7 Weeks
URL:https://nalandauniv.edu.in/event/week-08-week-14-teaching-2/
END:VEVENT
BEGIN:VEVENT
DTSTART;VALUE=DATE:20211015
DTEND;VALUE=DATE:20211016
DTSTAMP:20260423T132930
CREATED:20210923T133404Z
LAST-MODIFIED:20210923T134327Z
UID:7893-1634256000-1634342399@nalandauniv.edu.in
SUMMARY:Dussehra (Vijaydashmi)
DESCRIPTION:
URL:https://nalandauniv.edu.in/event/dussehra-vijaydashmi/
END:VEVENT
BEGIN:VEVENT
DTSTART;VALUE=DATE:20211011
DTEND;VALUE=DATE:20211016
DTSTAMP:20260423T132930
CREATED:20210923T123057Z
LAST-MODIFIED:20210923T134345Z
UID:7866-1633910400-1634342399@nalandauniv.edu.in
SUMMARY:Mid Semester Examinations SEMESTER-III
DESCRIPTION:1 Week
URL:https://nalandauniv.edu.in/event/mid-semester-examinations/
END:VEVENT
BEGIN:VEVENT
DTSTART;VALUE=DATE:20211004
DTEND;VALUE=DATE:20211005
DTSTAMP:20260423T132930
CREATED:20210831T044229Z
LAST-MODIFIED:20210923T134358Z
UID:7646-1633305600-1633391999@nalandauniv.edu.in
SUMMARY:Commencement of Fall Semester 2021
DESCRIPTION:
URL:https://nalandauniv.edu.in/event/commencement-of-fall-semester-2021/
END:VEVENT
BEGIN:VEVENT
DTSTART;VALUE=DATE:20211002
DTEND;VALUE=DATE:20211003
DTSTAMP:20260423T132930
CREATED:20210923T133256Z
LAST-MODIFIED:20210923T134413Z
UID:7891-1633132800-1633219199@nalandauniv.edu.in
SUMMARY:Mahatma Gandhi’s Birthday
DESCRIPTION:
URL:https://nalandauniv.edu.in/event/mahatma-gandhis-birthday/
END:VEVENT
BEGIN:VEVENT
DTSTART;VALUE=DATE:20210909
DTEND;VALUE=DATE:20210910
DTSTAMP:20260423T132930
CREATED:20210923T133012Z
LAST-MODIFIED:20210923T134429Z
UID:7889-1631145600-1631231999@nalandauniv.edu.in
SUMMARY:Ganesh Chaturthi/Vinayak Chaturthi
DESCRIPTION:
URL:https://nalandauniv.edu.in/event/ganesh-chaturthi-vinayak-chaturthi/
END:VEVENT
BEGIN:VEVENT
DTSTART;VALUE=DATE:20210906
DTEND;VALUE=DATE:20211009
DTSTAMP:20260423T132930
CREATED:20210923T124713Z
LAST-MODIFIED:20210923T134442Z
UID:7885-1630886400-1633737599@nalandauniv.edu.in
SUMMARY:Week 01 – Week 05 (Teaching) SEMESTER-I
DESCRIPTION:5 Weeks
URL:https://nalandauniv.edu.in/event/week-01-week-05-teaching-semester-i/
END:VEVENT
BEGIN:VEVENT
DTSTART;VALUE=DATE:20210823
DTEND;VALUE=DATE:20211009
DTSTAMP:20260423T132930
CREATED:20210923T122847Z
LAST-MODIFIED:20210923T134455Z
UID:7864-1629676800-1633737599@nalandauniv.edu.in
SUMMARY:Week 01 – Week 07 (Teaching) SEMESTER-III
DESCRIPTION:
URL:https://nalandauniv.edu.in/event/week-01-week-07-teaching/
END:VEVENT
BEGIN:VEVENT
DTSTART;VALUE=DATE:20210728
DTEND;VALUE=DATE:20210729
DTSTAMP:20260423T132930
CREATED:20210728T124903Z
LAST-MODIFIED:20210923T134535Z
UID:7137-1627430400-1627516799@nalandauniv.edu.in
SUMMARY:Launch Of MA in Literary Studies in English
DESCRIPTION:
URL:https://nalandauniv.edu.in/event/launch-of-ma-in-literary-studies-in-english/
END:VEVENT
END:VCALENDAR