BEGIN:VCALENDAR
VERSION:2.0
PRODID:-//Nalanda University - ECPv6.15.18//NONSGML v1.0//EN
CALSCALE:GREGORIAN
METHOD:PUBLISH
X-WR-CALNAME:Nalanda University
X-ORIGINAL-URL:https://nalandauniv.edu.in
X-WR-CALDESC:Events for Nalanda University
REFRESH-INTERVAL;VALUE=DURATION:PT1H
X-Robots-Tag:noindex
X-PUBLISHED-TTL:PT1H
BEGIN:VTIMEZONE
TZID:Asia/Kolkata
BEGIN:STANDARD
TZOFFSETFROM:+0530
TZOFFSETTO:+0530
TZNAME:IST
DTSTART:20250101T000000
END:STANDARD
END:VTIMEZONE
BEGIN:VEVENT
DTSTART;TZID=Asia/Kolkata:20260331T113000
DTEND;TZID=Asia/Kolkata:20260331T150000
DTSTAMP:20260423T145209
CREATED:20260331T022548Z
LAST-MODIFIED:20260331T022548Z
UID:17420-1774956600-1774969200@nalandauniv.edu.in
SUMMARY:2nd Convocation of Nalanda University
DESCRIPTION:
URL:https://nalandauniv.edu.in/event/2nd-convocation-of-nalanda-university/
END:VEVENT
END:VCALENDAR